BEGIN:VCALENDAR
VERSION:2.0
PRODID:-//siskiyoufoodassistance.org//NONSGML kigkonsult.se iCalcreator 2.3
 0.10//
CALSCALE:GREGORIAN
METHOD:PUBLISH
UID:c1610918-0b26-402a-861f-825ff201b53e
X-WR-CALDESC:For those needing emergency food\, a total of eight boxes per 
 year are available. Each box is a 3-day supply of nutritionally balanced f
 ood. New clients must have photo ID\, proof of residence\, proof if others
  in your home\, and proof of income.\nFresh produce available on a weekly 
 basis for clients registered with SFA. Does not count toward the eight box
 es allowed.
X-WR-RELCALID:8d3a739afa5742b070837061cf758175
X-WR-TIMEZONE:America/Los_Angeles
BEGIN:VTIMEZONE
TZID:America/Los_Angeles
BEGIN:STANDARD
TZNAME:PST
DTSTART:20161106T020000
TZOFFSETFROM:-0700
TZOFFSETTO:-0800
RDATE:20171105T020000
RDATE:20181104T020000
END:STANDARD
BEGIN:DAYLIGHT
TZNAME:PDT
DTSTART:20170312T020000
TZOFFSETFROM:-0800
TZOFFSETTO:-0700
RDATE:20180311T020000
END:DAYLIGHT
END:VTIMEZONE
BEGIN:VEVENT
UID:cf5a4b26-72d8-47a1-97fd-ba659f4997a5
DTSTAMP:20260426T040910Z
DESCRIPTION:For those needing emergency food\, a total of eight boxes per y
 ear are available. Each box is a 3-day supply of nutritionally balanced fo
 od. New clients must have photo ID\, proof of residence\, proof if others 
 in your home\, and proof of income.\nFresh produce available on a weekly b
 asis for clients registered with SFA. Does not count toward the eight boxe
 s allowed.
DTSTART;TZID=America/Los_Angeles:20170621T110000
DTEND;TZID=America/Los_Angeles:20170621T150000
LOCATION:Weed Elementary School Annex (776 S. Davis Ave.\, Weed CA)
SUMMARY:Emergency Food Distribution
END:VEVENT
END:VCALENDAR
