BEGIN:VCALENDAR
VERSION:2.0
PRODID:-//siskiyoufoodassistance.org//NONSGML kigkonsult.se iCalcreator 2.3
 0.10//
CALSCALE:GREGORIAN
METHOD:PUBLISH
UID:6cbbee92-f44d-47f9-8066-f6ad0412437c
X-WR-CALDESC:For those needing emergency food\, a total of eight boxes per 
 year are available. Each box is a 3-day supply of nutritionally balanced f
 ood. New clients must have photo ID\, proof of residence\, proof if others
  in your home\, and proof of income.\nFresh produce available on a weekly 
 basis for clients registered with SFA. Does not count toward the eight box
 es allowed.
X-WR-RELCALID:6fb8595b0dc2365b7389487a055b004d
X-WR-TIMEZONE:America/Los_Angeles
BEGIN:VTIMEZONE
TZID:America/Los_Angeles
BEGIN:STANDARD
TZNAME:PST
DTSTART:20161106T020000
TZOFFSETFROM:-0700
TZOFFSETTO:-0800
RDATE:20171105T020000
RDATE:20181104T020000
END:STANDARD
BEGIN:DAYLIGHT
TZNAME:PDT
DTSTART:20170312T020000
TZOFFSETFROM:-0800
TZOFFSETTO:-0700
RDATE:20180311T020000
RDATE:20190310T020000
END:DAYLIGHT
END:VTIMEZONE
BEGIN:VEVENT
UID:c8e9a97e-eeee-4ac8-b799-53b971b6149d
DTSTAMP:20260425T211047Z
DESCRIPTION:For those needing emergency food\, a total of eight boxes per y
 ear are available. Each box is a 3-day supply of nutritionally balanced fo
 od. New clients must have photo ID\, proof of residence\, proof if others 
 in your home\, and proof of income.\nFresh produce available on a weekly b
 asis for clients registered with SFA. Does not count toward the eight boxe
 s allowed.
DTSTART;TZID=America/Los_Angeles:20171101T110000
DTEND;TZID=America/Los_Angeles:20171101T150000
LOCATION:Weed Elementary School Annex (776 S. Davis Ave.\, Weed CA)
SUMMARY:Emergency Food Distribution
END:VEVENT
END:VCALENDAR
