BEGIN:VCALENDAR
VERSION:2.0
PRODID:-//siskiyoufoodassistance.org//NONSGML kigkonsult.se iCalcreator 2.3
 0.10//
CALSCALE:GREGORIAN
METHOD:PUBLISH
UID:60b58842-9858-45f3-b230-4b34be895e95
X-WR-CALDESC:A drive-thru\, first-come\, first-served turkey box distributi
 on. Bring proof of residence in South Siskiyou County.\n
X-WR-RELCALID:bb9eab24d8658e40342592730c13cd5a
X-WR-TIMEZONE:America/Los_Angeles
BEGIN:VTIMEZONE
TZID:America/Los_Angeles
BEGIN:STANDARD
TZNAME:PST
DTSTART:20171105T020000
TZOFFSETFROM:-0700
TZOFFSETTO:-0800
RDATE:20181104T020000
END:STANDARD
BEGIN:DAYLIGHT
TZNAME:PDT
DTSTART:20170312T020000
TZOFFSETFROM:-0800
TZOFFSETTO:-0700
RDATE:20180311T020000
RDATE:20190310T020000
END:DAYLIGHT
END:VTIMEZONE
BEGIN:VEVENT
UID:e7a9b865-23cb-48e5-8d95-d782c0cf39f5
DTSTAMP:20260425T212807Z
DESCRIPTION:A drive-thru\, first-come\, first-served turkey box distributio
 n. Bring proof of residence in South Siskiyou County.\n
DTSTART;TZID=America/Los_Angeles:20171120T100000
DTEND;TZID=America/Los_Angeles:20171120T130000
LOCATION:SFA Pantry\, 780 S. Davis Ave.\, Weed CA
SUMMARY:Turkey Box Distribution
END:VEVENT
END:VCALENDAR
