BEGIN:VCALENDAR
VERSION:2.0
PRODID:-//siskiyoufoodassistance.org//NONSGML kigkonsult.se iCalcreator 2.3
 0.10//
CALSCALE:GREGORIAN
METHOD:PUBLISH
UID:ec0aa481-a576-4358-bc89-c529b9b1e6ce
X-WR-CALDESC:
X-WR-RELCALID:85f58f627f9e70b9130b6c603f77152e
X-WR-TIMEZONE:America/Los_Angeles
BEGIN:VTIMEZONE
TZID:America/Los_Angeles
BEGIN:STANDARD
TZNAME:PST
DTSTART:20171105T020000
TZOFFSETFROM:-0700
TZOFFSETTO:-0800
RDATE:20181104T020000
END:STANDARD
BEGIN:DAYLIGHT
TZNAME:PDT
DTSTART:20170312T020000
TZOFFSETFROM:-0800
TZOFFSETTO:-0700
RDATE:20180311T020000
RDATE:20190310T020000
END:DAYLIGHT
END:VTIMEZONE
BEGIN:VEVENT
UID:52aea696-4e98-493b-919b-b3d47fedf3c1
DTSTAMP:20260425T212837Z
DESCRIPTION:
DTSTART;TZID=America/Los_Angeles:20171121T130000
DTEND;TZID=America/Los_Angeles:20171121T150000
LOCATION:SFA Pantry\, 780 S. Davis Ave.\, Weed CA
SUMMARY:Run for Food Check-In
END:VEVENT
END:VCALENDAR
