BEGIN:VCALENDAR
VERSION:2.0
PRODID:-//siskiyoufoodassistance.org//NONSGML kigkonsult.se iCalcreator 2.3
 0.10//
CALSCALE:GREGORIAN
METHOD:PUBLISH
UID:ea65975d-e2d4-4009-8d4e-9375462d8a2d
X-WR-CALDESC:
X-WR-RELCALID:3533de01cc8cb796473505ff37746dfd
X-WR-TIMEZONE:America/Los_Angeles
BEGIN:VTIMEZONE
TZID:America/Los_Angeles
BEGIN:STANDARD
TZNAME:PST
DTSTART:20171105T020000
TZOFFSETFROM:-0700
TZOFFSETTO:-0800
RDATE:20181104T020000
END:STANDARD
BEGIN:DAYLIGHT
TZNAME:PDT
DTSTART:20170312T020000
TZOFFSETFROM:-0800
TZOFFSETTO:-0700
RDATE:20180311T020000
RDATE:20190310T020000
END:DAYLIGHT
END:VTIMEZONE
BEGIN:VEVENT
UID:70fabf07-0a14-48a1-b358-1fe18ce9aafc
DTSTAMP:20260425T211709Z
DESCRIPTION:
DTSTART;TZID=America/Los_Angeles:20171122T000000
DTEND;TZID=America/Los_Angeles:20171122T235900
LOCATION:
SUMMARY:NO PANTRY TODAY
END:VEVENT
END:VCALENDAR
