BEGIN:VCALENDAR
VERSION:2.0
PRODID:-//siskiyoufoodassistance.org//NONSGML kigkonsult.se iCalcreator 2.3
 0.10//
CALSCALE:GREGORIAN
METHOD:PUBLISH
UID:c7f8257c-dd26-449f-94d0-712db4c5f8b3
X-WR-CALDESC:
X-WR-RELCALID:f8e52d658ff00535fb5ea690e6c8d75f
X-WR-TIMEZONE:America/Los_Angeles
BEGIN:VTIMEZONE
TZID:America/Los_Angeles
BEGIN:STANDARD
TZNAME:PST
DTSTART:20171105T020000
TZOFFSETFROM:-0700
TZOFFSETTO:-0800
RDATE:20181104T020000
END:STANDARD
BEGIN:DAYLIGHT
TZNAME:PDT
DTSTART:20170312T020000
TZOFFSETFROM:-0800
TZOFFSETTO:-0700
RDATE:20180311T020000
RDATE:20190310T020000
END:DAYLIGHT
END:VTIMEZONE
BEGIN:VEVENT
UID:bed2d30e-dd2a-4427-9de0-b8524fc27915
DTSTAMP:20260425T211955Z
DESCRIPTION:
DTSTART;TZID=America/Los_Angeles:20171122T130000
DTEND;TZID=America/Los_Angeles:20171122T150000
LOCATION:Sportsmen's Den\, 100 Chestnut St.\, Mt. Shasta\, CA
SUMMARY:Run for Food Check-In
END:VEVENT
END:VCALENDAR
