BEGIN:VCALENDAR
VERSION:2.0
PRODID:-//siskiyoufoodassistance.org//NONSGML kigkonsult.se iCalcreator 2.3
 0.10//
CALSCALE:GREGORIAN
METHOD:PUBLISH
UID:86ff0b98-571a-4a67-ac55-eaec25c2b970
X-WR-CALDESC:
X-WR-RELCALID:eea10c9efd2059b58f8413d3cb8f1826
X-WR-TIMEZONE:America/Los_Angeles
BEGIN:VTIMEZONE
TZID:America/Los_Angeles
BEGIN:STANDARD
TZNAME:PST
DTSTART:20171105T020000
TZOFFSETFROM:-0700
TZOFFSETTO:-0800
RDATE:20181104T020000
END:STANDARD
BEGIN:DAYLIGHT
TZNAME:PDT
DTSTART:20170312T020000
TZOFFSETFROM:-0800
TZOFFSETTO:-0700
RDATE:20180311T020000
RDATE:20190310T020000
END:DAYLIGHT
END:VTIMEZONE
BEGIN:VEVENT
UID:c99383aa-8b35-4bfb-a04b-e8900960ff64
DTSTAMP:20260425T212622Z
DESCRIPTION:
DTSTART;TZID=America/Los_Angeles:20171123T083000
DTEND;TZID=America/Los_Angeles:20171123T103000
LOCATION:800 College Ave.\, Weed CA
SUMMARY:RUN FOR FOOD 5k Run/Walk
END:VEVENT
END:VCALENDAR
