BEGIN:VCALENDAR
VERSION:2.0
PRODID:-//siskiyoufoodassistance.org//NONSGML kigkonsult.se iCalcreator 2.3
 0.10//
CALSCALE:GREGORIAN
METHOD:PUBLISH
UID:85f0a85a-e330-424d-838c-2e2e849c98d6
X-WR-CALDESC:Like us on Facebook (Siskiyou Food Assistance) or Twitter (@Si
 sqFoodAssist) to catch the excitement of the day!
X-WR-RELCALID:69f2bffcf1ca6e4019a290121e8bfb50
X-WR-TIMEZONE:America/Los_Angeles
BEGIN:VTIMEZONE
TZID:America/Los_Angeles
BEGIN:STANDARD
TZNAME:PST
DTSTART:20171105T020000
TZOFFSETFROM:-0700
TZOFFSETTO:-0800
RDATE:20181104T020000
END:STANDARD
BEGIN:DAYLIGHT
TZNAME:PDT
DTSTART:20170312T020000
TZOFFSETFROM:-0800
TZOFFSETTO:-0700
RDATE:20180311T020000
RDATE:20190310T020000
END:DAYLIGHT
END:VTIMEZONE
BEGIN:VEVENT
UID:4319b512-a99f-4ed2-b1ea-5620832b1566
DTSTAMP:20260425T212654Z
DESCRIPTION:Like us on Facebook (Siskiyou Food Assistance) or Twitter (@Sis
 qFoodAssist) to catch the excitement of the day!
DTSTART;TZID=America/Los_Angeles:20171128T060000
DTEND;TZID=America/Los_Angeles:20171128T200000
LOCATION:Online at northstategives.org
SUMMARY:North State Giving Tuesday
END:VEVENT
END:VCALENDAR
