BEGIN:VCALENDAR
VERSION:2.0
PRODID:-//siskiyoufoodassistance.org//NONSGML kigkonsult.se iCalcreator 2.3
 0.10//
CALSCALE:GREGORIAN
METHOD:PUBLISH
UID:cfec8212-7d04-46e3-afa6-cdfc29e78c44
X-WR-CALDESC:
X-WR-RELCALID:221bf3bc034bc4fcba4d7e1f7a446b09
X-WR-TIMEZONE:America/Los_Angeles
BEGIN:VTIMEZONE
TZID:America/Los_Angeles
BEGIN:STANDARD
TZNAME:PST
DTSTART:20171105T020000
TZOFFSETFROM:-0700
TZOFFSETTO:-0800
RDATE:20181104T020000
END:STANDARD
BEGIN:DAYLIGHT
TZNAME:PDT
DTSTART:20170312T020000
TZOFFSETFROM:-0800
TZOFFSETTO:-0700
RDATE:20180311T020000
RDATE:20190310T020000
END:DAYLIGHT
END:VTIMEZONE
BEGIN:VEVENT
UID:a3e708d5-7f6f-4390-97f6-801b76eca343
DTSTAMP:20260425T194103Z
DESCRIPTION:
DTSTART;TZID=America/Los_Angeles:20171225T000000
DTEND;TZID=America/Los_Angeles:20171225T235900
LOCATION:
SUMMARY:Christmas Day
END:VEVENT
END:VCALENDAR
