BEGIN:VCALENDAR
VERSION:2.0
PRODID:-//siskiyoufoodassistance.org//NONSGML kigkonsult.se iCalcreator 2.3
 0.10//
CALSCALE:GREGORIAN
METHOD:PUBLISH
UID:fbef29c0-5a6e-4f4b-9b1f-918c9732298e
X-WR-CALDESC:A drive-thru\, first-come\, first-served turkey box distributi
 on. Bring proof of residence in South Siskiyou County.\n
X-WR-RELCALID:9c5cf1258dd5deeb965e493d809ba7b5
X-WR-TIMEZONE:America/Los_Angeles
BEGIN:VTIMEZONE
TZID:America/Los_Angeles
BEGIN:STANDARD
TZNAME:PST
DTSTART:20181104T020000
TZOFFSETFROM:-0700
TZOFFSETTO:-0800
RDATE:20191103T020000
END:STANDARD
BEGIN:DAYLIGHT
TZNAME:PDT
DTSTART:20180311T020000
TZOFFSETFROM:-0800
TZOFFSETTO:-0700
RDATE:20190310T020000
RDATE:20200308T020000
END:DAYLIGHT
END:VTIMEZONE
BEGIN:VEVENT
UID:6b6b36be-e878-4036-9ec2-4080cd6ebf06
DTSTAMP:20260425T031336Z
DESCRIPTION:A drive-thru\, first-come\, first-served turkey box distributio
 n. Bring proof of residence in South Siskiyou County.\n
DTSTART;TZID=America/Los_Angeles:20181120T100000
DTEND;TZID=America/Los_Angeles:20181120T130000
LOCATION:SFA Pantry\, 780 S. Davis Ave.\, Weed CA
SUMMARY:Turkey Box Distribution
END:VEVENT
END:VCALENDAR
