BEGIN:VCALENDAR
VERSION:2.0
PRODID:-//siskiyoufoodassistance.org//NONSGML kigkonsult.se iCalcreator 2.3
 0.10//
CALSCALE:GREGORIAN
METHOD:PUBLISH
UID:97c2aea0-90f1-43be-9100-0192923d08d1
X-WR-CALDESC:
X-WR-RELCALID:75eafc9c2b141e7d56667c63e3f0f415
X-WR-TIMEZONE:America/Los_Angeles
BEGIN:VTIMEZONE
TZID:America/Los_Angeles
BEGIN:STANDARD
TZNAME:PST
DTSTART:20181104T020000
TZOFFSETFROM:-0700
TZOFFSETTO:-0800
RDATE:20191103T020000
END:STANDARD
BEGIN:DAYLIGHT
TZNAME:PDT
DTSTART:20180311T020000
TZOFFSETFROM:-0800
TZOFFSETTO:-0700
RDATE:20190310T020000
RDATE:20200308T020000
END:DAYLIGHT
END:VTIMEZONE
BEGIN:VEVENT
UID:fb130860-2edc-4b7a-854f-b53f58b6351b
DTSTAMP:20260425T020241Z
DESCRIPTION:
DTSTART;TZID=America/Los_Angeles:20181225T000000
DTEND;TZID=America/Los_Angeles:20181225T235900
LOCATION:
SUMMARY:Christmas Day
END:VEVENT
END:VCALENDAR
