BEGIN:VCALENDAR
VERSION:2.0
PRODID:-//siskiyoufoodassistance.org//NONSGML kigkonsult.se iCalcreator 2.3
 0.10//
CALSCALE:GREGORIAN
METHOD:PUBLISH
UID:82e167fb-d138-486d-8970-a723d55765b5
X-WR-CALDESC:For those needing emergency food\, a total of eight boxes per 
 year are available. Each box is a 3-day supply of nutritionally balanced f
 ood. New clients must have photo ID\, proof of residence\, proof if others
  in your home\, and proof of income.\nFresh produce available on a weekly 
 basis for clients registered with SFA. Does not count toward the eight box
 es allowed.
X-WR-RELCALID:421d356f56ad3513ed641fc2ef8550df
X-WR-TIMEZONE:America/Los_Angeles
BEGIN:VTIMEZONE
TZID:America/Los_Angeles
BEGIN:STANDARD
TZNAME:PST
DTSTART:20181104T020000
TZOFFSETFROM:-0700
TZOFFSETTO:-0800
RDATE:20191103T020000
RDATE:20201101T020000
END:STANDARD
BEGIN:DAYLIGHT
TZNAME:PDT
DTSTART:20190310T020000
TZOFFSETFROM:-0800
TZOFFSETTO:-0700
RDATE:20200308T020000
END:DAYLIGHT
END:VTIMEZONE
BEGIN:VEVENT
UID:4b969eb1-c936-463e-98de-7a36e291e6d2
DTSTAMP:20260424T154647Z
DESCRIPTION:For those needing emergency food\, a total of eight boxes per y
 ear are available. Each box is a 3-day supply of nutritionally balanced fo
 od. New clients must have photo ID\, proof of residence\, proof if others 
 in your home\, and proof of income.\nFresh produce available on a weekly b
 asis for clients registered with SFA. Does not count toward the eight boxe
 s allowed.
DTSTART;TZID=America/Los_Angeles:20190717T110000
DTEND;TZID=America/Los_Angeles:20190717T150000
LOCATION:Weed Elementary School Annex (776 S. Davis Ave.\, Weed CA)
SUMMARY:Emergency Food Distribution
END:VEVENT
END:VCALENDAR
