BEGIN:VCALENDAR
VERSION:2.0
PRODID:-//siskiyoufoodassistance.org//NONSGML kigkonsult.se iCalcreator 2.3
 0.10//
CALSCALE:GREGORIAN
METHOD:PUBLISH
UID:a01d8ea1-81e2-444e-9649-e6eb003c3fd2
X-WR-CALDESC:For those needing emergency food\, a total of eight boxes per 
 year are available. Each box is a 3-day supply of nutritionally balanced f
 ood. New clients must have photo ID\, proof of residence\, proof if others
  in your home\, and proof of income.\nFresh produce available on a weekly 
 basis for clients registered with SFA. Does not count toward the eight box
 es allowed.
X-WR-RELCALID:e4c149c41df6de6fc9ecbcf0ccd7fd65
X-WR-TIMEZONE:America/Los_Angeles
BEGIN:VTIMEZONE
TZID:America/Los_Angeles
BEGIN:STANDARD
TZNAME:PST
DTSTART:20181104T020000
TZOFFSETFROM:-0700
TZOFFSETTO:-0800
RDATE:20191103T020000
RDATE:20201101T020000
END:STANDARD
BEGIN:DAYLIGHT
TZNAME:PDT
DTSTART:20190310T020000
TZOFFSETFROM:-0800
TZOFFSETTO:-0700
RDATE:20200308T020000
END:DAYLIGHT
END:VTIMEZONE
BEGIN:VEVENT
UID:8fef156a-5649-4964-a0a9-f92899380df4
DTSTAMP:20260424T152642Z
DESCRIPTION:For those needing emergency food\, a total of eight boxes per y
 ear are available. Each box is a 3-day supply of nutritionally balanced fo
 od. New clients must have photo ID\, proof of residence\, proof if others 
 in your home\, and proof of income.\nFresh produce available on a weekly b
 asis for clients registered with SFA. Does not count toward the eight boxe
 s allowed.
DTSTART;TZID=America/Los_Angeles:20190724T110000
DTEND;TZID=America/Los_Angeles:20190724T150000
LOCATION:Weed Elementary School Annex (776 S. Davis Ave.\, Weed CA)
SUMMARY:Emergency Food Distribution
END:VEVENT
END:VCALENDAR
