BEGIN:VCALENDAR
VERSION:2.0
PRODID:-//siskiyoufoodassistance.org//NONSGML kigkonsult.se iCalcreator 2.3
 0.10//
CALSCALE:GREGORIAN
METHOD:PUBLISH
UID:9ae02faa-3c3f-4ca7-9ee3-83deb27104d5
X-WR-CALDESC:For those needing emergency food\, a total of eight boxes per 
 year are available. Each box is a 3-day supply of nutritionally balanced f
 ood. New clients must have photo ID\, proof of residence\, proof if others
  in your home\, and proof of income.\nFresh produce available on a weekly 
 basis for clients registered with SFA. Does not count toward the eight box
 es allowed.
X-WR-RELCALID:27a4ba41e425beaf33d571e9b08bb923
X-WR-TIMEZONE:America/Los_Angeles
BEGIN:VTIMEZONE
TZID:America/Los_Angeles
BEGIN:STANDARD
TZNAME:PST
DTSTART:20181104T020000
TZOFFSETFROM:-0700
TZOFFSETTO:-0800
RDATE:20191103T020000
RDATE:20201101T020000
END:STANDARD
BEGIN:DAYLIGHT
TZNAME:PDT
DTSTART:20190310T020000
TZOFFSETFROM:-0800
TZOFFSETTO:-0700
RDATE:20200308T020000
RDATE:20210314T020000
END:DAYLIGHT
END:VTIMEZONE
BEGIN:VEVENT
UID:8810a6c6-58b3-4ac4-b2b2-fd63e86608b4
DTSTAMP:20260424T105938Z
DESCRIPTION:For those needing emergency food\, a total of eight boxes per y
 ear are available. Each box is a 3-day supply of nutritionally balanced fo
 od. New clients must have photo ID\, proof of residence\, proof if others 
 in your home\, and proof of income.\nFresh produce available on a weekly b
 asis for clients registered with SFA. Does not count toward the eight boxe
 s allowed.
DTSTART;TZID=America/Los_Angeles:20191016T110000
DTEND;TZID=America/Los_Angeles:20191016T150000
LOCATION:Weed Elementary School Annex (776 S. Davis Ave.\, Weed CA)
SUMMARY:Emergency Food Distribution
END:VEVENT
END:VCALENDAR
