BEGIN:VCALENDAR
VERSION:2.0
PRODID:-//siskiyoufoodassistance.org//NONSGML kigkonsult.se iCalcreator 2.3
 0.10//
CALSCALE:GREGORIAN
METHOD:PUBLISH
UID:1b162fde-13e5-4992-ae6f-090d77480947
X-WR-CALDESC:USDA commodities boxes that are preassembled for low income re
 sidents of Weed.
X-WR-RELCALID:59e76acffad19029d35d2c6ba5d3f276
X-WR-TIMEZONE:America/Los_Angeles
BEGIN:VTIMEZONE
TZID:America/Los_Angeles
BEGIN:STANDARD
TZNAME:PST
DTSTART:20191103T020000
TZOFFSETFROM:-0700
TZOFFSETTO:-0800
RDATE:20201101T020000
END:STANDARD
BEGIN:DAYLIGHT
TZNAME:PDT
DTSTART:20190310T020000
TZOFFSETFROM:-0800
TZOFFSETTO:-0700
RDATE:20200308T020000
RDATE:20210314T020000
END:DAYLIGHT
END:VTIMEZONE
BEGIN:VEVENT
UID:eecd9a27-e96e-4389-ae4f-bf6341458eb6
DTSTAMP:20260424T093127Z
DESCRIPTION:USDA commodities boxes that are preassembled for low income res
 idents of Weed.
DTSTART;TZID=America/Los_Angeles:20191120T110000
DTEND;TZID=America/Los_Angeles:20191120T150000
LOCATION:
SUMMARY:Weed area EFAP distribution
END:VEVENT
END:VCALENDAR
