BEGIN:VCALENDAR
VERSION:2.0
PRODID:-//siskiyoufoodassistance.org//NONSGML kigkonsult.se iCalcreator 2.3
 0.10//
CALSCALE:GREGORIAN
METHOD:PUBLISH
UID:8c1d181e-3870-4d0b-a076-7933605fd261
X-WR-CALDESC:Drive-up distribution of turkeys and traditional sides for our
  low-income neighbors to prepare and enjoy at home. First come\, first ser
 ved.
X-WR-RELCALID:00c2740afe203f02c4e581479c0c08d3
X-WR-TIMEZONE:America/Los_Angeles
BEGIN:VTIMEZONE
TZID:America/Los_Angeles
BEGIN:STANDARD
TZNAME:PST
DTSTART:20191103T020000
TZOFFSETFROM:-0700
TZOFFSETTO:-0800
RDATE:20201101T020000
END:STANDARD
BEGIN:DAYLIGHT
TZNAME:PDT
DTSTART:20190310T020000
TZOFFSETFROM:-0800
TZOFFSETTO:-0700
RDATE:20200308T020000
RDATE:20210314T020000
END:DAYLIGHT
END:VTIMEZONE
BEGIN:VEVENT
UID:a259d487-6bac-4ce5-b422-259f473e0b3f
DTSTAMP:20260424T093527Z
DESCRIPTION:Drive-up distribution of turkeys and traditional sides for our 
 low-income neighbors to prepare and enjoy at home. First come\, first serv
 ed.
DTSTART;TZID=America/Los_Angeles:20191125T100000
DTEND;TZID=America/Los_Angeles:20191125T123000
LOCATION:SFA Pantry\, 780 S. Davis Ave.\, Weed CA
SUMMARY:Turkey Box Distribution
END:VEVENT
END:VCALENDAR
