BEGIN:VCALENDAR
VERSION:2.0
PRODID:-//siskiyoufoodassistance.org//NONSGML kigkonsult.se iCalcreator 2.3
 0.10//
CALSCALE:GREGORIAN
METHOD:PUBLISH
UID:c3b3c9fb-3b2f-4184-877d-3fc157a7e0e4
X-WR-CALDESC:Preregistered participants may pick up their bib numbers\, t-s
 hirts and select your raffle prize preference. New registrations will be t
 aken\, as well as t-shirt sales.
X-WR-RELCALID:6e123e049e8401df3678fb16729bfe1d
X-WR-TIMEZONE:America/Los_Angeles
BEGIN:VTIMEZONE
TZID:America/Los_Angeles
BEGIN:STANDARD
TZNAME:PST
DTSTART:20191103T020000
TZOFFSETFROM:-0700
TZOFFSETTO:-0800
RDATE:20201101T020000
END:STANDARD
BEGIN:DAYLIGHT
TZNAME:PDT
DTSTART:20190310T020000
TZOFFSETFROM:-0800
TZOFFSETTO:-0700
RDATE:20200308T020000
RDATE:20210314T020000
END:DAYLIGHT
END:VTIMEZONE
BEGIN:VEVENT
UID:3a4f5b47-7d7d-45fd-91af-0d3619d92def
DTSTAMP:20260424T092613Z
DESCRIPTION:Preregistered participants may pick up their bib numbers\, t-sh
 irts and select your raffle prize preference. New registrations will be ta
 ken\, as well as t-shirt sales.
DTSTART;TZID=America/Los_Angeles:20191126T130000
DTEND;TZID=America/Los_Angeles:20191126T150000
LOCATION:SFA Pantry
SUMMARY:Run for Food packet pickup
END:VEVENT
END:VCALENDAR
