BEGIN:VCALENDAR
VERSION:2.0
PRODID:-//siskiyoufoodassistance.org//NONSGML kigkonsult.se iCalcreator 2.3
 0.10//
CALSCALE:GREGORIAN
METHOD:PUBLISH
UID:b9b006ea-0660-4edc-92ab-63054328b7a4
X-WR-CALDESC:Preregistered participant check-in for bibs\, t-shirts\, raffl
 e selections. New registrations taken\, t-shirt sales.
X-WR-RELCALID:bb595583626d26faa30169928f64905f
X-WR-TIMEZONE:America/Los_Angeles
BEGIN:VTIMEZONE
TZID:America/Los_Angeles
BEGIN:STANDARD
TZNAME:PST
DTSTART:20191103T020000
TZOFFSETFROM:-0700
TZOFFSETTO:-0800
RDATE:20201101T020000
END:STANDARD
BEGIN:DAYLIGHT
TZNAME:PDT
DTSTART:20190310T020000
TZOFFSETFROM:-0800
TZOFFSETTO:-0700
RDATE:20200308T020000
RDATE:20210314T020000
END:DAYLIGHT
END:VTIMEZONE
BEGIN:VEVENT
UID:5373ebcc-842b-4dfa-8dca-ef016c425eb9
DTSTAMP:20260424T092651Z
DESCRIPTION:Preregistered participant check-in for bibs\, t-shirts\, raffle
  selections. New registrations taken\, t-shirt sales.
DTSTART;TZID=America/Los_Angeles:20191127T130000
DTEND;TZID=America/Los_Angeles:20191127T150000
LOCATION:Sportsmen's Den\, 100 Chestnut St.\, Mt. Shasta\, CA
SUMMARY:Run for Food packet pickup
END:VEVENT
END:VCALENDAR
