BEGIN:VCALENDAR
VERSION:2.0
PRODID:-//siskiyoufoodassistance.org//NONSGML kigkonsult.se iCalcreator 2.3
 0.10//
CALSCALE:GREGORIAN
METHOD:PUBLISH
UID:f4b6d557-fafd-4457-b855-e87082e09495
X-WR-CALDESC:
X-WR-RELCALID:db4752ec82769adf81565d7e14da2b97
X-WR-TIMEZONE:America/Los_Angeles
BEGIN:VTIMEZONE
TZID:America/Los_Angeles
BEGIN:STANDARD
TZNAME:PST
DTSTART:20191103T020000
TZOFFSETFROM:-0700
TZOFFSETTO:-0800
RDATE:20201101T020000
END:STANDARD
BEGIN:DAYLIGHT
TZNAME:PDT
DTSTART:20190310T020000
TZOFFSETFROM:-0800
TZOFFSETTO:-0700
RDATE:20200308T020000
RDATE:20210314T020000
END:DAYLIGHT
END:VTIMEZONE
BEGIN:VEVENT
UID:62575858-6026-46d7-8c04-13a9d6c309ac
DTSTAMP:20260424T092625Z
DESCRIPTION:
DTSTART;TZID=America/Los_Angeles:20191128T083000
DTEND;TZID=America/Los_Angeles:20191128T103000
LOCATION:College of the Siskiyous\, 800 College Ave.\, Weed CA
SUMMARY:RUN FOR FOOD 5k Run/Walk
END:VEVENT
END:VCALENDAR
