BEGIN:VCALENDAR
VERSION:2.0
PRODID:-//siskiyoufoodassistance.org//NONSGML kigkonsult.se iCalcreator 2.3
 0.10//
CALSCALE:GREGORIAN
METHOD:PUBLISH
UID:056e78ed-4793-4073-af43-27902aa2affb
X-WR-CALDESC:
X-WR-RELCALID:986d71aa4c5ba06b40997a136a2e3269
X-WR-TIMEZONE:America/Los_Angeles
BEGIN:VTIMEZONE
TZID:America/Los_Angeles
BEGIN:STANDARD
TZNAME:PST
DTSTART:20191103T020000
TZOFFSETFROM:-0700
TZOFFSETTO:-0800
RDATE:20201101T020000
END:STANDARD
BEGIN:DAYLIGHT
TZNAME:PDT
DTSTART:20190310T020000
TZOFFSETFROM:-0800
TZOFFSETTO:-0700
RDATE:20200308T020000
RDATE:20210314T020000
END:DAYLIGHT
END:VTIMEZONE
BEGIN:VEVENT
UID:601f91f7-1564-439e-afa1-c01838d43f54
DTSTAMP:20260424T092823Z
DESCRIPTION:
DTSTART;TZID=America/Los_Angeles:20191128T000000
DTEND;TZID=America/Los_Angeles:20191128T235900
LOCATION:
SUMMARY:Thanksgiving Day
END:VEVENT
END:VCALENDAR
