BEGIN:VCALENDAR
VERSION:2.0
PRODID:-//siskiyoufoodassistance.org//NONSGML kigkonsult.se iCalcreator 2.3
 0.10//
CALSCALE:GREGORIAN
METHOD:PUBLISH
UID:f5cee527-7b37-4236-8e5a-1857609edc02
X-WR-CALDESC:Online giving campaign to benefit nonprofits. Our pantry was e
 stablished in Weed CA in 2001\, and now serves all of South Siskiyou Count
 y. Over 700 local families will be impacted by your donation!
X-WR-RELCALID:89cb178cbd2f245e8722211313bdc9f3
X-WR-TIMEZONE:America/Los_Angeles
BEGIN:VTIMEZONE
TZID:America/Los_Angeles
BEGIN:STANDARD
TZNAME:PST
DTSTART:20191103T020000
TZOFFSETFROM:-0700
TZOFFSETTO:-0800
RDATE:20201101T020000
END:STANDARD
BEGIN:DAYLIGHT
TZNAME:PDT
DTSTART:20190310T020000
TZOFFSETFROM:-0800
TZOFFSETTO:-0700
RDATE:20200308T020000
RDATE:20210314T020000
END:DAYLIGHT
END:VTIMEZONE
BEGIN:VEVENT
UID:49ce5af2-02b3-45d4-9854-28db843327c8
DTSTAMP:20260424T080517Z
DESCRIPTION:Online giving campaign to benefit nonprofits. Our pantry was es
 tablished in Weed CA in 2001\, and now serves all of South Siskiyou County
 . Over 700 local families will be impacted by your donation!
DTSTART;TZID=America/Los_Angeles:20191203T060000
DTEND;TZID=America/Los_Angeles:20191203T200000
LOCATION:
SUMMARY:Giving Tuesday
END:VEVENT
END:VCALENDAR
