BEGIN:VCALENDAR
VERSION:2.0
PRODID:-//siskiyoufoodassistance.org//NONSGML kigkonsult.se iCalcreator 2.3
 0.10//
CALSCALE:GREGORIAN
METHOD:PUBLISH
UID:08604c94-5b65-4b76-8427-dd7570ad1c10
X-WR-CALDESC:
X-WR-RELCALID:c89b7cd32cd7fb5886c0409f7ffe21eb
X-WR-TIMEZONE:America/Los_Angeles
BEGIN:VTIMEZONE
TZID:America/Los_Angeles
BEGIN:STANDARD
TZNAME:PST
DTSTART:20191103T020000
TZOFFSETFROM:-0700
TZOFFSETTO:-0800
RDATE:20201101T020000
END:STANDARD
BEGIN:DAYLIGHT
TZNAME:PDT
DTSTART:20190310T020000
TZOFFSETFROM:-0800
TZOFFSETTO:-0700
RDATE:20200308T020000
RDATE:20210314T020000
END:DAYLIGHT
END:VTIMEZONE
BEGIN:VEVENT
UID:f77f2119-de26-447d-9bb2-44937f570f6b
DTSTAMP:20260424T080424Z
DESCRIPTION:
DTSTART;TZID=America/Los_Angeles:20191225T000000
DTEND;TZID=America/Los_Angeles:20191225T235900
LOCATION:
SUMMARY:Christmas Day
END:VEVENT
END:VCALENDAR
