BEGIN:VCALENDAR
VERSION:2.0
PRODID:-//siskiyoufoodassistance.org//NONSGML kigkonsult.se iCalcreator 2.3
 0.10//
CALSCALE:GREGORIAN
METHOD:PUBLISH
UID:25dc73ab-07db-47c9-a9c0-0ce71b599ef2
X-WR-CALDESC:
X-WR-RELCALID:99a931c253dff242c0e29376f4a5111b
X-WR-TIMEZONE:America/Los_Angeles
BEGIN:VTIMEZONE
TZID:America/Los_Angeles
BEGIN:STANDARD
TZNAME:PST
DTSTART:20191103T020000
TZOFFSETFROM:-0700
TZOFFSETTO:-0800
RDATE:20201101T020000
END:STANDARD
BEGIN:DAYLIGHT
TZNAME:PDT
DTSTART:20190310T020000
TZOFFSETFROM:-0800
TZOFFSETTO:-0700
RDATE:20200308T020000
RDATE:20210314T020000
END:DAYLIGHT
END:VTIMEZONE
BEGIN:VEVENT
UID:a19c4678-b44f-401f-83ad-f70e927a3b57
DTSTAMP:20260424T081153Z
DESCRIPTION:
DTSTART;TZID=America/Los_Angeles:20191225T000000
DTEND;TZID=America/Los_Angeles:20191225T235900
LOCATION:
SUMMARY:Pantry CLOSED
END:VEVENT
END:VCALENDAR
