BEGIN:VCALENDAR
VERSION:2.0
PRODID:-//siskiyoufoodassistance.org//NONSGML kigkonsult.se iCalcreator 2.3
 0.10//
CALSCALE:GREGORIAN
METHOD:PUBLISH
UID:df1e8e4a-538a-4be7-a7a6-7eb4c3d58abf
X-WR-CALDESC:For those needing emergency food\, we offer a selection of nut
 ritionally balanced food. Both shelf stable and fresh produce. Each bag de
 signed to be a 3-day supply. Please provide photo ID\, proof of income and
  proof of residence in one of our service areas: Gazelle\, Big Springs\, L
 ake Shastina\, Edgewood\, Weed\, Mt. Shasta\, McCloud\, Dunsmuir and Caste
 lla.
X-WR-RELCALID:f94c2b0cd5ef8bce5ff33dfb8750fee5
X-WR-TIMEZONE:America/Los_Angeles
BEGIN:VTIMEZONE
TZID:America/Los_Angeles
BEGIN:STANDARD
TZNAME:PST
DTSTART:20191103T020000
TZOFFSETFROM:-0700
TZOFFSETTO:-0800
RDATE:20201101T020000
END:STANDARD
BEGIN:DAYLIGHT
TZNAME:PDT
DTSTART:20200308T020000
TZOFFSETFROM:-0800
TZOFFSETTO:-0700
RDATE:20210314T020000
END:DAYLIGHT
END:VTIMEZONE
BEGIN:VEVENT
UID:0a60bc12-4381-47e6-a84b-e000b15dde3e
DTSTAMP:20260424T030530Z
DESCRIPTION:For those needing emergency food\, we offer a selection of nutr
 itionally balanced food. Both shelf stable and fresh produce. Each bag des
 igned to be a 3-day supply. Please provide photo ID\, proof of income and 
 proof of residence in one of our service areas: Gazelle\, Big Springs\, La
 ke Shastina\, Edgewood\, Weed\, Mt. Shasta\, McCloud\, Dunsmuir and Castel
 la.
DTSTART;TZID=America/Los_Angeles:20200422T110000
DTEND;TZID=America/Los_Angeles:20200422T150000
LOCATION:Weed Elementary School Annex (780 S. Davis Ave.\, Weed CA)
SUMMARY:Emergency Food Distribution
END:VEVENT
END:VCALENDAR
