BEGIN:VCALENDAR
VERSION:2.0
PRODID:-//siskiyoufoodassistance.org//NONSGML kigkonsult.se iCalcreator 2.3
 0.10//
CALSCALE:GREGORIAN
METHOD:PUBLISH
UID:c3804bea-742f-49d5-9e6b-f9fd115285b4
X-WR-CALDESC:For those needing emergency food\, we offer a selection of nut
 ritionally balanced food. Both shelf stable and fresh produce. Each bag de
 signed to be a 3-day supply. Please provide photo ID\, proof of income and
  proof of residence in one of our service areas: Gazelle\, Big Springs\, L
 ake Shastina\, Edgewood\, Weed\, Mt. Shasta\, McCloud\, Dunsmuir and Caste
 lla.
X-WR-RELCALID:50a75fc0b40f851b16a19612655f4b48
X-WR-TIMEZONE:America/Los_Angeles
BEGIN:VTIMEZONE
TZID:America/Los_Angeles
BEGIN:STANDARD
TZNAME:PST
DTSTART:20191103T020000
TZOFFSETFROM:-0700
TZOFFSETTO:-0800
RDATE:20201101T020000
RDATE:20211107T020000
END:STANDARD
BEGIN:DAYLIGHT
TZNAME:PDT
DTSTART:20200308T020000
TZOFFSETFROM:-0800
TZOFFSETTO:-0700
RDATE:20210314T020000
END:DAYLIGHT
END:VTIMEZONE
BEGIN:VEVENT
UID:f164580d-313e-40e6-b28d-5cede8584263
DTSTAMP:20260423T230204Z
DESCRIPTION:For those needing emergency food\, we offer a selection of nutr
 itionally balanced food. Both shelf stable and fresh produce. Each bag des
 igned to be a 3-day supply. Please provide photo ID\, proof of income and 
 proof of residence in one of our service areas: Gazelle\, Big Springs\, La
 ke Shastina\, Edgewood\, Weed\, Mt. Shasta\, McCloud\, Dunsmuir and Castel
 la.
DTSTART;TZID=America/Los_Angeles:20200701T110000
DTEND;TZID=America/Los_Angeles:20200701T150000
LOCATION:Weed Elementary School Annex (780 S. Davis Ave.\, Weed CA)
SUMMARY:Emergency Food Distribution
END:VEVENT
END:VCALENDAR
