BEGIN:VCALENDAR
VERSION:2.0
PRODID:-//siskiyoufoodassistance.org//NONSGML kigkonsult.se iCalcreator 2.3
 0.10//
CALSCALE:GREGORIAN
METHOD:PUBLISH
UID:f3a92150-5c26-4177-bbb6-c61e7c8ab6a4
X-WR-CALDESC:A drive-thru\, first-come\, first-served turkey box distributi
 on. Bring proof of residence in South Siskiyou County.\n
X-WR-RELCALID:eb5261aca4373f7333678a7fdb3e2ff0
X-WR-TIMEZONE:America/Los_Angeles
BEGIN:VTIMEZONE
TZID:America/Los_Angeles
BEGIN:STANDARD
TZNAME:PST
DTSTART:20201101T020000
TZOFFSETFROM:-0700
TZOFFSETTO:-0800
RDATE:20211107T020000
END:STANDARD
BEGIN:DAYLIGHT
TZNAME:PDT
DTSTART:20200308T020000
TZOFFSETFROM:-0800
TZOFFSETTO:-0700
RDATE:20210314T020000
RDATE:20220313T020000
END:DAYLIGHT
END:VTIMEZONE
BEGIN:VEVENT
UID:0c7d354a-bc96-4f33-87d7-492da4156be2
DTSTAMP:20260424T130731Z
DESCRIPTION:A drive-thru\, first-come\, first-served turkey box distributio
 n. Bring proof of residence in South Siskiyou County.\n
DTSTART;TZID=America/Los_Angeles:20201123T100000
DTEND;TZID=America/Los_Angeles:20201123T130000
LOCATION:SFA Pantry\, 780 S. Davis Ave.\, Weed CA
SUMMARY:Turkey Box Distribution
END:VEVENT
END:VCALENDAR
