BEGIN:VCALENDAR
VERSION:2.0
PRODID:-//siskiyoufoodassistance.org//NONSGML kigkonsult.se iCalcreator 2.3
 0.10//
CALSCALE:GREGORIAN
METHOD:PUBLISH
UID:4fae4c92-5c10-4fb3-8e2f-5ed3bb6aa375
X-WR-CALDESC:
X-WR-RELCALID:c7d88fc00116c138aad1b8d0e8dbac2b
X-WR-TIMEZONE:America/Los_Angeles
BEGIN:VTIMEZONE
TZID:America/Los_Angeles
BEGIN:STANDARD
TZNAME:PST
DTSTART:20201101T020000
TZOFFSETFROM:-0700
TZOFFSETTO:-0800
RDATE:20211107T020000
END:STANDARD
BEGIN:DAYLIGHT
TZNAME:PDT
DTSTART:20200308T020000
TZOFFSETFROM:-0800
TZOFFSETTO:-0700
RDATE:20210314T020000
RDATE:20220313T020000
END:DAYLIGHT
END:VTIMEZONE
BEGIN:VEVENT
UID:fd695195-a3cd-4916-b76a-1e2ff17ac70b
DTSTAMP:20260423T180611Z
DESCRIPTION:
DTSTART;TZID=America/Los_Angeles:20201125T000000
DTEND;TZID=America/Los_Angeles:20201125T235900
LOCATION:
SUMMARY:CLOSED
END:VEVENT
END:VCALENDAR
