BEGIN:VCALENDAR
VERSION:2.0
PRODID:-//siskiyoufoodassistance.org//NONSGML kigkonsult.se iCalcreator 2.3
 0.10//
CALSCALE:GREGORIAN
METHOD:PUBLISH
UID:1fe7a8ad-a5c3-4bc0-8f78-7b730caeeecf
X-WR-CALDESC:
X-WR-RELCALID:36995e78825ae0c577eb18377494a68c
X-WR-TIMEZONE:America/Los_Angeles
BEGIN:VTIMEZONE
TZID:America/Los_Angeles
BEGIN:STANDARD
TZNAME:PST
DTSTART:20201101T020000
TZOFFSETFROM:-0700
TZOFFSETTO:-0800
RDATE:20211107T020000
END:STANDARD
BEGIN:DAYLIGHT
TZNAME:PDT
DTSTART:20200308T020000
TZOFFSETFROM:-0800
TZOFFSETTO:-0700
RDATE:20210314T020000
RDATE:20220313T020000
END:DAYLIGHT
END:VTIMEZONE
BEGIN:VEVENT
UID:835e5fea-5bb9-4678-b3c6-d497071fca25
DTSTAMP:20260423T181103Z
DESCRIPTION:
DTSTART;TZID=America/Los_Angeles:20201126T000000
DTEND;TZID=America/Los_Angeles:20201126T235900
LOCATION:
SUMMARY:Happy Thanksgiving! (miss you)
END:VEVENT
END:VCALENDAR
