BEGIN:VCALENDAR
VERSION:2.0
PRODID:-//siskiyoufoodassistance.org//NONSGML kigkonsult.se iCalcreator 2.3
 0.10//
CALSCALE:GREGORIAN
METHOD:PUBLISH
UID:87fc816b-19f1-48d0-8fa5-f0b393807592
X-WR-CALDESC:
X-WR-RELCALID:62acf6f2230e98556f9378decc1bc003
X-WR-TIMEZONE:America/Los_Angeles
BEGIN:VTIMEZONE
TZID:America/Los_Angeles
BEGIN:STANDARD
TZNAME:PST
DTSTART:20201101T020000
TZOFFSETFROM:-0700
TZOFFSETTO:-0800
RDATE:20211107T020000
END:STANDARD
BEGIN:DAYLIGHT
TZNAME:PDT
DTSTART:20200308T020000
TZOFFSETFROM:-0800
TZOFFSETTO:-0700
RDATE:20210314T020000
RDATE:20220313T020000
END:DAYLIGHT
END:VTIMEZONE
BEGIN:VEVENT
UID:d1e31540-e639-44d8-9ca7-246673b723fd
DTSTAMP:20260423T163642Z
DESCRIPTION:
DTSTART;TZID=America/Los_Angeles:20201201T060000
DTEND;TZID=America/Los_Angeles:20201201T200000
LOCATION:https://www.northstategives.org/SiskiyouFoodAssistance
SUMMARY:North State Giving Tuesday
END:VEVENT
END:VCALENDAR
