BEGIN:VCALENDAR
VERSION:2.0
PRODID:-//siskiyoufoodassistance.org//NONSGML kigkonsult.se iCalcreator 2.3
 0.10//
CALSCALE:GREGORIAN
METHOD:PUBLISH
UID:f469586b-8233-422c-89b3-bb32342b8c3d
X-WR-CALDESC:
X-WR-RELCALID:d6e12d3da3831560e61ac7dddd6359cc
X-WR-TIMEZONE:America/Los_Angeles
BEGIN:VTIMEZONE
TZID:America/Los_Angeles
BEGIN:STANDARD
TZNAME:PST
DTSTART:20201101T020000
TZOFFSETFROM:-0700
TZOFFSETTO:-0800
RDATE:20211107T020000
END:STANDARD
BEGIN:DAYLIGHT
TZNAME:PDT
DTSTART:20200308T020000
TZOFFSETFROM:-0800
TZOFFSETTO:-0700
RDATE:20210314T020000
RDATE:20220313T020000
END:DAYLIGHT
END:VTIMEZONE
BEGIN:VEVENT
UID:f33cc59b-0f37-4927-bb82-ae46649db8b3
DTSTAMP:20260423T164552Z
DESCRIPTION:
DTSTART;TZID=America/Los_Angeles:20201223T000000
DTEND;TZID=America/Los_Angeles:20201223T235900
LOCATION:
SUMMARY:CLOSED
END:VEVENT
END:VCALENDAR
