BEGIN:VCALENDAR
VERSION:2.0
PRODID:-//siskiyoufoodassistance.org//NONSGML kigkonsult.se iCalcreator 2.3
 0.10//
CALSCALE:GREGORIAN
METHOD:PUBLISH
UID:5753b730-1aa9-4e70-9c15-72ab5e6d9840
X-WR-CALDESC:
X-WR-RELCALID:166d7eafdf2af83f95c07653f7e1155a
X-WR-TIMEZONE:America/Los_Angeles
BEGIN:VTIMEZONE
TZID:America/Los_Angeles
BEGIN:STANDARD
TZNAME:PST
DTSTART:20201101T020000
TZOFFSETFROM:-0700
TZOFFSETTO:-0800
RDATE:20211107T020000
END:STANDARD
BEGIN:DAYLIGHT
TZNAME:PDT
DTSTART:20200308T020000
TZOFFSETFROM:-0800
TZOFFSETTO:-0700
RDATE:20210314T020000
RDATE:20220313T020000
END:DAYLIGHT
END:VTIMEZONE
BEGIN:VEVENT
UID:e3146c77-430f-4018-b9ec-d0c13ab8e3b9
DTSTAMP:20260423T165021Z
DESCRIPTION:
DTSTART;TZID=America/Los_Angeles:20201225T000000
DTEND;TZID=America/Los_Angeles:20201225T235900
LOCATION:
SUMMARY:Christmas Day
END:VEVENT
END:VCALENDAR
