BEGIN:VCALENDAR
VERSION:2.0
PRODID:-//siskiyoufoodassistance.org//NONSGML kigkonsult.se iCalcreator 2.3
 0.10//
CALSCALE:GREGORIAN
METHOD:PUBLISH
UID:3b8ae852-aab2-4519-8ecb-1563dc1d8d62
X-WR-CALDESC:
X-WR-RELCALID:bd6f2f215b22941baae76a2ff0db0052
X-WR-TIMEZONE:America/Los_Angeles
BEGIN:VTIMEZONE
TZID:America/Los_Angeles
BEGIN:STANDARD
TZNAME:PST
DTSTART:20201101T020000
TZOFFSETFROM:-0700
TZOFFSETTO:-0800
RDATE:20211107T020000
END:STANDARD
BEGIN:DAYLIGHT
TZNAME:PDT
DTSTART:20200308T020000
TZOFFSETFROM:-0800
TZOFFSETTO:-0700
RDATE:20210314T020000
RDATE:20220313T020000
END:DAYLIGHT
END:VTIMEZONE
BEGIN:VEVENT
UID:4603eeae-2a6a-482a-ab96-acf5e89fce9c
DTSTAMP:20260423T163642Z
DESCRIPTION:
DTSTART;TZID=America/Los_Angeles:20201230T000000
DTEND;TZID=America/Los_Angeles:20201230T235900
LOCATION:
SUMMARY:CLOSED
END:VEVENT
END:VCALENDAR
