BEGIN:VCALENDAR
VERSION:2.0
PRODID:-//siskiyoufoodassistance.org//NONSGML kigkonsult.se iCalcreator 2.3
 0.10//
CALSCALE:GREGORIAN
METHOD:PUBLISH
UID:dee85e5b-fb96-4528-9ad6-fd3c63bc53fa
X-WR-CALDESC:For those needing emergency food\, we offer a selection of nut
 ritionally balanced food. Both shelf stable and fresh produce. Each bag de
 signed to be a 3-day supply. Please provide photo ID\, proof of income and
  proof of residence in one of our service areas: Gazelle\, Big Springs\, L
 ake Shastina\, Edgewood\, Weed\, Mt. Shasta\, McCloud\, Dunsmuir and Caste
 lla.
X-WR-RELCALID:a742d8de5e00e0d6f38df67056daf7ec
X-WR-TIMEZONE:America/Los_Angeles
BEGIN:VTIMEZONE
TZID:America/Los_Angeles
BEGIN:STANDARD
TZNAME:PST
DTSTART:20201101T020000
TZOFFSETFROM:-0700
TZOFFSETTO:-0800
RDATE:20211107T020000
RDATE:20221106T020000
END:STANDARD
BEGIN:DAYLIGHT
TZNAME:PDT
DTSTART:20210314T020000
TZOFFSETFROM:-0800
TZOFFSETTO:-0700
RDATE:20220313T020000
END:DAYLIGHT
END:VTIMEZONE
BEGIN:VEVENT
UID:d6f0ce42-1f08-42f3-9025-7bee85210728
DTSTAMP:20260423T092740Z
DESCRIPTION:For those needing emergency food\, we offer a selection of nutr
 itionally balanced food. Both shelf stable and fresh produce. Each bag des
 igned to be a 3-day supply. Please provide photo ID\, proof of income and 
 proof of residence in one of our service areas: Gazelle\, Big Springs\, La
 ke Shastina\, Edgewood\, Weed\, Mt. Shasta\, McCloud\, Dunsmuir and Castel
 la.
DTSTART;TZID=America/Los_Angeles:20210512T110000
DTEND;TZID=America/Los_Angeles:20210512T150000
LOCATION:Weed Elementary School Annex (780 S. Davis Ave.\, Weed CA)
SUMMARY:Emergency Food Distribution
END:VEVENT
END:VCALENDAR
