BEGIN:VCALENDAR
VERSION:2.0
PRODID:-//siskiyoufoodassistance.org//NONSGML kigkonsult.se iCalcreator 2.3
 0.10//
CALSCALE:GREGORIAN
METHOD:PUBLISH
UID:60fe4c1a-f7b6-4cb3-83ab-69a767a247cc
X-WR-CALDESC:For those needing emergency food\, we offer a selection of nut
 ritionally balanced food. Both shelf stable and fresh produce. Each bag de
 signed to be a 3-day supply. Please provide photo ID\, proof of income and
  proof of residence in one of our service areas: Gazelle\, Big Springs\, L
 ake Shastina\, Edgewood\, Weed\, Mt. Shasta\, McCloud\, Dunsmuir and Caste
 lla.
X-WR-RELCALID:835c0fe41a7d4d0d46e4e583d0b66688
X-WR-TIMEZONE:America/Los_Angeles
BEGIN:VTIMEZONE
TZID:America/Los_Angeles
BEGIN:STANDARD
TZNAME:PST
DTSTART:20201101T020000
TZOFFSETFROM:-0700
TZOFFSETTO:-0800
RDATE:20211107T020000
RDATE:20221106T020000
END:STANDARD
BEGIN:DAYLIGHT
TZNAME:PDT
DTSTART:20210314T020000
TZOFFSETFROM:-0800
TZOFFSETTO:-0700
RDATE:20220313T020000
END:DAYLIGHT
END:VTIMEZONE
BEGIN:VEVENT
UID:88f56534-334d-430e-8463-6108d23fe086
DTSTAMP:20260421T065232Z
DESCRIPTION:For those needing emergency food\, we offer a selection of nutr
 itionally balanced food. Both shelf stable and fresh produce. Each bag des
 igned to be a 3-day supply. Please provide photo ID\, proof of income and 
 proof of residence in one of our service areas: Gazelle\, Big Springs\, La
 ke Shastina\, Edgewood\, Weed\, Mt. Shasta\, McCloud\, Dunsmuir and Castel
 la.
DTSTART;TZID=America/Los_Angeles:20210728T110000
DTEND;TZID=America/Los_Angeles:20210728T150000
LOCATION:Weed Elementary School Annex (780 S. Davis Ave.\, Weed CA)
SUMMARY:Emergency Food Distribution
END:VEVENT
END:VCALENDAR
