BEGIN:VCALENDAR
VERSION:2.0
PRODID:-//siskiyoufoodassistance.org//NONSGML kigkonsult.se iCalcreator 2.3
 0.10//
CALSCALE:GREGORIAN
METHOD:PUBLISH
UID:afef03d1-626a-4d69-a073-f0dc8289882f
X-WR-CALDESC:A drive-thru\, first-come\, first-served turkey box distributi
 on. Bring proof of residence in South Siskiyou County.\n
X-WR-RELCALID:79dc1d7d6db4a0c8c0416dbd9645ce27
X-WR-TIMEZONE:America/Los_Angeles
BEGIN:VTIMEZONE
TZID:America/Los_Angeles
BEGIN:STANDARD
TZNAME:PST
DTSTART:20211107T020000
TZOFFSETFROM:-0700
TZOFFSETTO:-0800
RDATE:20221106T020000
END:STANDARD
BEGIN:DAYLIGHT
TZNAME:PDT
DTSTART:20210314T020000
TZOFFSETFROM:-0800
TZOFFSETTO:-0700
RDATE:20220313T020000
RDATE:20230312T020000
END:DAYLIGHT
END:VTIMEZONE
BEGIN:VEVENT
UID:0f1ab151-33f0-4274-bdfa-9da2832d94fe
DTSTAMP:20260421T003139Z
DESCRIPTION:A drive-thru\, first-come\, first-served turkey box distributio
 n. Bring proof of residence in South Siskiyou County.\n
DTSTART;TZID=America/Los_Angeles:20211122T093000
DTEND;TZID=America/Los_Angeles:20211122T143000
LOCATION:SFA Pantry\, 780 S. Davis Ave.\, Weed CA
SUMMARY:Turkey Box Distribution
END:VEVENT
END:VCALENDAR
