BEGIN:VCALENDAR
VERSION:2.0
PRODID:-//siskiyoufoodassistance.org//NONSGML kigkonsult.se iCalcreator 2.3
 0.10//
CALSCALE:GREGORIAN
METHOD:PUBLISH
UID:3a9791f8-36d7-4465-9ba2-3a87a197dc5d
X-WR-CALDESC:
X-WR-RELCALID:bd720c2bdafc3b414293cdd0da5afbaf
X-WR-TIMEZONE:America/Los_Angeles
BEGIN:VTIMEZONE
TZID:America/Los_Angeles
BEGIN:STANDARD
TZNAME:PST
DTSTART:20211107T020000
TZOFFSETFROM:-0700
TZOFFSETTO:-0800
RDATE:20221106T020000
END:STANDARD
BEGIN:DAYLIGHT
TZNAME:PDT
DTSTART:20210314T020000
TZOFFSETFROM:-0800
TZOFFSETTO:-0700
RDATE:20220313T020000
RDATE:20230312T020000
END:DAYLIGHT
END:VTIMEZONE
BEGIN:VEVENT
UID:373045a1-8215-43bd-af4f-c7803f134ae3
DTSTAMP:20260420T231051Z
DESCRIPTION:
DTSTART;TZID=America/Los_Angeles:20211222T110000
DTEND;TZID=America/Los_Angeles:20211222T150000
LOCATION:
SUMMARY:CLOSED FOR CHRISTMAS
END:VEVENT
END:VCALENDAR
