BEGIN:VCALENDAR
VERSION:2.0
PRODID:-//siskiyoufoodassistance.org//NONSGML kigkonsult.se iCalcreator 2.3
 0.10//
CALSCALE:GREGORIAN
METHOD:PUBLISH
UID:4bf14a01-70d6-444f-a1d0-307f1e8d6c1f
X-WR-CALDESC:
X-WR-RELCALID:932964d6d56d17dd24ded112d075c044
X-WR-TIMEZONE:America/Los_Angeles
BEGIN:VTIMEZONE
TZID:America/Los_Angeles
BEGIN:STANDARD
TZNAME:PST
DTSTART:20211107T020000
TZOFFSETFROM:-0700
TZOFFSETTO:-0800
RDATE:20221106T020000
END:STANDARD
BEGIN:DAYLIGHT
TZNAME:PDT
DTSTART:20210314T020000
TZOFFSETFROM:-0800
TZOFFSETTO:-0700
RDATE:20220313T020000
RDATE:20230312T020000
END:DAYLIGHT
END:VTIMEZONE
BEGIN:VEVENT
UID:b6734685-a6cc-4bca-997d-5dd0a453ba8b
DTSTAMP:20260420T231641Z
DESCRIPTION:
DTSTART;TZID=America/Los_Angeles:20211229T110000
DTEND;TZID=America/Los_Angeles:20211229T150000
LOCATION:Weed Elementary School Annex (776 S. Davis Ave.\, Weed CA)
SUMMARY:CLOSED FOR NEW YEAR'S
END:VEVENT
END:VCALENDAR
