BEGIN:VCALENDAR
VERSION:2.0
PRODID:-//siskiyoufoodassistance.org//NONSGML kigkonsult.se iCalcreator 2.3
 0.10//
CALSCALE:GREGORIAN
METHOD:PUBLISH
UID:fe7a52e3-30e3-4c64-87af-b8adecf9d575
X-WR-CALDESC:
X-WR-RELCALID:9801d8b078ba26f2f59af5ed09aee87a
X-WR-TIMEZONE:America/Los_Angeles
BEGIN:VTIMEZONE
TZID:America/Los_Angeles
BEGIN:STANDARD
TZNAME:PST
DTSTART:20221106T020000
TZOFFSETFROM:-0700
TZOFFSETTO:-0800
RDATE:20231105T020000
END:STANDARD
BEGIN:DAYLIGHT
TZNAME:PDT
DTSTART:20220313T020000
TZOFFSETFROM:-0800
TZOFFSETTO:-0700
RDATE:20230312T020000
RDATE:20240310T020000
END:DAYLIGHT
END:VTIMEZONE
BEGIN:VEVENT
UID:ca3be27e-1775-4857-a0bc-15156b191b48
DTSTAMP:20260420T064848Z
DESCRIPTION:
DTSTART;TZID=America/Los_Angeles:20221118T120000
DTEND;TZID=America/Los_Angeles:20221118T130000
LOCATION:
SUMMARY:SFA Board Meeting
END:VEVENT
END:VCALENDAR
