BEGIN:VCALENDAR
VERSION:2.0
PRODID:-//siskiyoufoodassistance.org//NONSGML kigkonsult.se iCalcreator 2.3
 0.10//
CALSCALE:GREGORIAN
METHOD:PUBLISH
UID:73067207-4b8b-4c87-8e8c-5c1922532d0d
X-WR-CALDESC:A drive-thru turkey box distribution for those having complete
 d an application. Bring proof of residence in South Siskiyou County.\n
X-WR-RELCALID:6a5e6fbd819a64790fb4b0906471a371
X-WR-TIMEZONE:America/Los_Angeles
BEGIN:VTIMEZONE
TZID:America/Los_Angeles
BEGIN:STANDARD
TZNAME:PST
DTSTART:20221106T020000
TZOFFSETFROM:-0700
TZOFFSETTO:-0800
RDATE:20231105T020000
END:STANDARD
BEGIN:DAYLIGHT
TZNAME:PDT
DTSTART:20220313T020000
TZOFFSETFROM:-0800
TZOFFSETTO:-0700
RDATE:20230312T020000
RDATE:20240310T020000
END:DAYLIGHT
END:VTIMEZONE
BEGIN:VEVENT
UID:0cf23815-8d0f-440c-9cf3-1d337fa936ce
DTSTAMP:20260420T064812Z
DESCRIPTION:A drive-thru turkey box distribution for those having completed
  an application. Bring proof of residence in South Siskiyou County.\n
DTSTART;TZID=America/Los_Angeles:20221121T100000
DTEND;TZID=America/Los_Angeles:20221121T130000
LOCATION:SFA Pantry\, 780 S. Davis Ave.\, Weed CA
SUMMARY:Turkey Box Distribution
END:VEVENT
END:VCALENDAR
