BEGIN:VCALENDAR
VERSION:2.0
PRODID:-//siskiyoufoodassistance.org//NONSGML kigkonsult.se iCalcreator 2.3
 0.10//
CALSCALE:GREGORIAN
METHOD:PUBLISH
UID:7f50a015-adf7-42a9-ba3d-7a4e4d23a67a
X-WR-CALDESC:Run for Food late registration and participant check-in.
X-WR-RELCALID:d930e265abfa747cef39bf99df435409
X-WR-TIMEZONE:America/Los_Angeles
BEGIN:VTIMEZONE
TZID:America/Los_Angeles
BEGIN:STANDARD
TZNAME:PST
DTSTART:20221106T020000
TZOFFSETFROM:-0700
TZOFFSETTO:-0800
RDATE:20231105T020000
END:STANDARD
BEGIN:DAYLIGHT
TZNAME:PDT
DTSTART:20220313T020000
TZOFFSETFROM:-0800
TZOFFSETTO:-0700
RDATE:20230312T020000
RDATE:20240310T020000
END:DAYLIGHT
END:VTIMEZONE
BEGIN:VEVENT
UID:59883bee-7717-4b79-b160-6870d09d73ab
DTSTAMP:20260420T064412Z
DESCRIPTION:Run for Food late registration and participant check-in.
DTSTART;TZID=America/Los_Angeles:20221122T130000
DTEND;TZID=America/Los_Angeles:20221122T150000
LOCATION:SFA Pantry\, 780 S. Davis Ave.\, Weed\, CA 96094 US
SUMMARY:Run for Food registration and participant check-in
END:VEVENT
END:VCALENDAR
