BEGIN:VCALENDAR
VERSION:2.0
PRODID:-//siskiyoufoodassistance.org//NONSGML kigkonsult.se iCalcreator 2.3
 0.10//
CALSCALE:GREGORIAN
METHOD:PUBLISH
UID:50c60958-392e-46ac-ac6b-9fd147d9e3ad
X-WR-CALDESC:
X-WR-RELCALID:9162443d2529de56e107f068865a8aaa
X-WR-TIMEZONE:America/Los_Angeles
BEGIN:VTIMEZONE
TZID:America/Los_Angeles
BEGIN:STANDARD
TZNAME:PST
DTSTART:20221106T020000
TZOFFSETFROM:-0700
TZOFFSETTO:-0800
RDATE:20231105T020000
END:STANDARD
BEGIN:DAYLIGHT
TZNAME:PDT
DTSTART:20220313T020000
TZOFFSETFROM:-0800
TZOFFSETTO:-0700
RDATE:20230312T020000
RDATE:20240310T020000
END:DAYLIGHT
END:VTIMEZONE
BEGIN:VEVENT
UID:6f7ab55e-b0e4-44e5-a815-efdca8a7723a
DTSTAMP:20260420T064341Z
DESCRIPTION:
DTSTART;TZID=America/Los_Angeles:20221123T000000
DTEND;TZID=America/Los_Angeles:20221123T235900
LOCATION:
SUMMARY:No Food Distribution
END:VEVENT
END:VCALENDAR
