BEGIN:VCALENDAR
VERSION:2.0
PRODID:-//siskiyoufoodassistance.org//NONSGML kigkonsult.se iCalcreator 2.3
 0.10//
CALSCALE:GREGORIAN
METHOD:PUBLISH
UID:96f9598a-1d97-4997-959f-eea1277fa58b
X-WR-CALDESC:Late registration opportunity and participant check-in.
X-WR-RELCALID:90887e62aeba1d46d86495d15394d1f4
X-WR-TIMEZONE:America/Los_Angeles
BEGIN:VTIMEZONE
TZID:America/Los_Angeles
BEGIN:STANDARD
TZNAME:PST
DTSTART:20221106T020000
TZOFFSETFROM:-0700
TZOFFSETTO:-0800
RDATE:20231105T020000
END:STANDARD
BEGIN:DAYLIGHT
TZNAME:PDT
DTSTART:20220313T020000
TZOFFSETFROM:-0800
TZOFFSETTO:-0700
RDATE:20230312T020000
RDATE:20240310T020000
END:DAYLIGHT
END:VTIMEZONE
BEGIN:VEVENT
UID:c2a692bf-d22f-43c0-8a20-e94b6989edc0
DTSTAMP:20260420T064319Z
DESCRIPTION:Late registration opportunity and participant check-in.
DTSTART;TZID=America/Los_Angeles:20221123T130000
DTEND;TZID=America/Los_Angeles:20221123T150000
LOCATION:Sportsmen's Den\, 100 Chestnut St.\, Mt. Shasta\, CA 96067 US
SUMMARY:Run for Food registration & participant check-in
END:VEVENT
END:VCALENDAR
