BEGIN:VCALENDAR
VERSION:2.0
PRODID:-//siskiyoufoodassistance.org//NONSGML kigkonsult.se iCalcreator 2.3
 0.10//
CALSCALE:GREGORIAN
METHOD:PUBLISH
UID:42266438-f15b-4d1b-8f32-50dfa1b2b06f
X-WR-CALDESC:
X-WR-RELCALID:2c63b3325e9380a23f21bdd08ed93fb7
X-WR-TIMEZONE:America/Los_Angeles
BEGIN:VTIMEZONE
TZID:America/Los_Angeles
BEGIN:STANDARD
TZNAME:PST
DTSTART:20221106T020000
TZOFFSETFROM:-0700
TZOFFSETTO:-0800
RDATE:20231105T020000
END:STANDARD
BEGIN:DAYLIGHT
TZNAME:PDT
DTSTART:20220313T020000
TZOFFSETFROM:-0800
TZOFFSETTO:-0700
RDATE:20230312T020000
RDATE:20240310T020000
END:DAYLIGHT
END:VTIMEZONE
BEGIN:VEVENT
UID:4ff680d4-54cb-45eb-be2b-07517a16f21a
DTSTAMP:20260420T064158Z
DESCRIPTION:
DTSTART;TZID=America/Los_Angeles:20221124T080000
DTEND;TZID=America/Los_Angeles:20221124T100000
LOCATION:
SUMMARY:Run for Food 5k Run/Walk
END:VEVENT
END:VCALENDAR
