BEGIN:VCALENDAR
VERSION:2.0
PRODID:-//siskiyoufoodassistance.org//NONSGML kigkonsult.se iCalcreator 2.3
 0.10//
CALSCALE:GREGORIAN
METHOD:PUBLISH
UID:5bd15260-78de-43b7-9059-7f864ad06839
X-WR-CALDESC:
X-WR-RELCALID:8f865e95989c84fc682755f9baa0db3b
X-WR-TIMEZONE:America/Los_Angeles
BEGIN:VTIMEZONE
TZID:America/Los_Angeles
BEGIN:STANDARD
TZNAME:PST
DTSTART:20221106T020000
TZOFFSETFROM:-0700
TZOFFSETTO:-0800
RDATE:20231105T020000
END:STANDARD
BEGIN:DAYLIGHT
TZNAME:PDT
DTSTART:20220313T020000
TZOFFSETFROM:-0800
TZOFFSETTO:-0700
RDATE:20230312T020000
RDATE:20240310T020000
END:DAYLIGHT
END:VTIMEZONE
BEGIN:VEVENT
UID:75d56f91-cbf2-44f4-9c18-af48699deae4
DTSTAMP:20260420T064223Z
DESCRIPTION:
DTSTART;TZID=America/Los_Angeles:20221124T000000
DTEND;TZID=America/Los_Angeles:20221124T235900
LOCATION:
SUMMARY:Thanksgiving Day
END:VEVENT
END:VCALENDAR
