BEGIN:VCALENDAR
VERSION:2.0
PRODID:-//siskiyoufoodassistance.org//NONSGML kigkonsult.se iCalcreator 2.3
 0.10//
CALSCALE:GREGORIAN
METHOD:PUBLISH
UID:fc420e15-2a25-493f-a96f-4e06e0b1a528
X-WR-CALDESC:
X-WR-RELCALID:705c76bd94da34720bfc178192318021
X-WR-TIMEZONE:America/Los_Angeles
BEGIN:VTIMEZONE
TZID:America/Los_Angeles
BEGIN:STANDARD
TZNAME:PST
DTSTART:20221106T020000
TZOFFSETFROM:-0700
TZOFFSETTO:-0800
RDATE:20231105T020000
END:STANDARD
BEGIN:DAYLIGHT
TZNAME:PDT
DTSTART:20220313T020000
TZOFFSETFROM:-0800
TZOFFSETTO:-0700
RDATE:20230312T020000
RDATE:20240310T020000
END:DAYLIGHT
END:VTIMEZONE
BEGIN:VEVENT
UID:db133089-023d-4f2a-ac79-5f35fbdb38bf
DTSTAMP:20260420T145653Z
DESCRIPTION:
DTSTART;TZID=America/Los_Angeles:20221221T000000
DTEND;TZID=America/Los_Angeles:20221221T235900
LOCATION:
SUMMARY:SFA Closed
END:VEVENT
END:VCALENDAR
