BEGIN:VCALENDAR
VERSION:2.0
PRODID:-//siskiyoufoodassistance.org//NONSGML kigkonsult.se iCalcreator 2.3
 0.10//
CALSCALE:GREGORIAN
METHOD:PUBLISH
UID:1c6439f2-c5e9-4504-a1d1-0174a0c1aedf
X-WR-CALDESC:
X-WR-RELCALID:54f637494dae5ad2a157e7a4948452ad
X-WR-TIMEZONE:America/Los_Angeles
BEGIN:VTIMEZONE
TZID:America/Los_Angeles
BEGIN:STANDARD
TZNAME:PST
DTSTART:20221106T020000
TZOFFSETFROM:-0700
TZOFFSETTO:-0800
RDATE:20231105T020000
END:STANDARD
BEGIN:DAYLIGHT
TZNAME:PDT
DTSTART:20220313T020000
TZOFFSETFROM:-0800
TZOFFSETTO:-0700
RDATE:20230312T020000
RDATE:20240310T020000
END:DAYLIGHT
END:VTIMEZONE
BEGIN:VEVENT
UID:d32b7f0c-242f-4449-b51a-6c4f52e4e9bc
DTSTAMP:20260420T053941Z
DESCRIPTION:
DTSTART;TZID=America/Los_Angeles:20221225T000000
DTEND;TZID=America/Los_Angeles:20221225T235900
LOCATION:
SUMMARY:Christmas Day
END:VEVENT
END:VCALENDAR
