BEGIN:VCALENDAR
VERSION:2.0
PRODID:-//siskiyoufoodassistance.org//NONSGML kigkonsult.se iCalcreator 2.3
 0.10//
CALSCALE:GREGORIAN
METHOD:PUBLISH
UID:0dffd159-6962-46d1-af2b-3cd283f63193
X-WR-CALDESC:
X-WR-RELCALID:cad7fac29852a46a33271a39fdcecbfd
X-WR-TIMEZONE:America/Los_Angeles
BEGIN:VTIMEZONE
TZID:America/Los_Angeles
BEGIN:STANDARD
TZNAME:PST
DTSTART:20221106T020000
TZOFFSETFROM:-0700
TZOFFSETTO:-0800
RDATE:20231105T020000
END:STANDARD
BEGIN:DAYLIGHT
TZNAME:PDT
DTSTART:20220313T020000
TZOFFSETFROM:-0800
TZOFFSETTO:-0700
RDATE:20230312T020000
RDATE:20240310T020000
END:DAYLIGHT
END:VTIMEZONE
BEGIN:VEVENT
UID:e80b9735-57d3-44c1-b426-31074c806811
DTSTAMP:20260420T053248Z
DESCRIPTION:
DTSTART;TZID=America/Los_Angeles:20221228T000000
DTEND;TZID=America/Los_Angeles:20221228T235900
LOCATION:
SUMMARY:SFA Closed
END:VEVENT
END:VCALENDAR
