BEGIN:VCALENDAR
VERSION:2.0
PRODID:-//siskiyoufoodassistance.org//NONSGML kigkonsult.se iCalcreator 2.3
 0.10//
CALSCALE:GREGORIAN
METHOD:PUBLISH
UID:6d2a0c0b-2eb2-46a9-a9e2-9a01ddd568e7
X-WR-CALDESC:Drop off donations of non-perishable\, non-expired food to be 
 distributed to local Family Resource Centers and Siskiyou Food Assistance 
 pantry.
X-WR-RELCALID:04b3ef4f09121cfab9f6a588ff7f46fb
X-WR-TIMEZONE:America/Los_Angeles
BEGIN:VTIMEZONE
TZID:America/Los_Angeles
BEGIN:STANDARD
TZNAME:PST
DTSTART:20221106T020000
TZOFFSETFROM:-0700
TZOFFSETTO:-0800
RDATE:20231105T020000
RDATE:20241103T020000
END:STANDARD
BEGIN:DAYLIGHT
TZNAME:PDT
DTSTART:20230312T020000
TZOFFSETFROM:-0800
TZOFFSETTO:-0700
RDATE:20240310T020000
RDATE:20250309T020000
END:DAYLIGHT
END:VTIMEZONE
BEGIN:VEVENT
UID:298aa831-57f0-4167-b374-43c7ef35bfe2
DTSTAMP:20260419T152707Z
DESCRIPTION:Drop off donations of non-perishable\, non-expired food to be d
 istributed to local Family Resource Centers and Siskiyou Food Assistance p
 antry.
DTSTART;TZID=America/Los_Angeles:20230923T090000
DTEND;TZID=America/Los_Angeles:20230923T140000
LOCATION:MPI Insurance 425 S. Mt. Shasta Blvd.
SUMMARY:Food Drive
END:VEVENT
END:VCALENDAR
