BEGIN:VCALENDAR
VERSION:2.0
PRODID:-//siskiyoufoodassistance.org//NONSGML kigkonsult.se iCalcreator 2.3
 0.10//
CALSCALE:GREGORIAN
METHOD:PUBLISH
UID:d062e8e4-4f5a-430f-9271-ff234b0eebaa
X-WR-CALDESC:This October 21st golf event will not only be FUN\, but will r
 eally help fill the pantry for holiday giving.  Sign up soon as a team or 
 an individual to be placed on a team.  Give us a call or email if you or s
 omeone you know wants sponsorship information.
X-WR-RELCALID:295edbcbc44926d49a1c300ac3b659d4
X-WR-TIMEZONE:America/Los_Angeles
BEGIN:VTIMEZONE
TZID:America/Los_Angeles
BEGIN:STANDARD
TZNAME:PST
DTSTART:20221106T020000
TZOFFSETFROM:-0700
TZOFFSETTO:-0800
RDATE:20231105T020000
RDATE:20241103T020000
END:STANDARD
BEGIN:DAYLIGHT
TZNAME:PDT
DTSTART:20230312T020000
TZOFFSETFROM:-0800
TZOFFSETTO:-0700
RDATE:20240310T020000
RDATE:20250309T020000
END:DAYLIGHT
END:VTIMEZONE
BEGIN:VEVENT
UID:e0ac9263-2498-48ec-9474-5722ca656924
DTSTAMP:20260419T141511Z
DESCRIPTION:This October 21st golf event will not only be FUN\, but will re
 ally help fill the pantry for holiday giving.  Sign up soon as a team or a
 n individual to be placed on a team.  Give us a call or email if you or so
 meone you know wants sponsorship information.
DTSTART;TZID=America/Los_Angeles:20231021T000000
DTEND;TZID=America/Los_Angeles:20231021T235900
LOCATION:Lake Shastina Golf Resort
SUMMARY:Lake Shastina Fall Scramble Benefit
END:VEVENT
END:VCALENDAR
