BEGIN:VCALENDAR
VERSION:2.0
PRODID:-//siskiyoufoodassistance.org//NONSGML kigkonsult.se iCalcreator 2.3
 0.10//
CALSCALE:GREGORIAN
METHOD:PUBLISH
UID:944b5fd5-e48d-463f-901e-8eb954b9e615
X-WR-CALDESC:For those needing emergency food\, we offer a selection of nut
 ritionally balanced food. Both shelf stable and fresh produce. Each bag de
 signed to be a 3-day supply. Please provide photo ID\, proof of income and
  proof of residence in one of our service areas: Gazelle\, Big Springs\, L
 ake Shastina\, Edgewood\, Weed\, Mt. Shasta\, McCloud\, Dunsmuir and Caste
 lla.
X-WR-RELCALID:46c7be1012da9c83449f5ad971aaee1a
X-WR-TIMEZONE:America/Los_Angeles
BEGIN:VTIMEZONE
TZID:America/Los_Angeles
BEGIN:STANDARD
TZNAME:PST
DTSTART:20231105T020000
TZOFFSETFROM:-0700
TZOFFSETTO:-0800
RDATE:20241103T020000
END:STANDARD
BEGIN:DAYLIGHT
TZNAME:PDT
DTSTART:20230312T020000
TZOFFSETFROM:-0800
TZOFFSETTO:-0700
RDATE:20240310T020000
RDATE:20250309T020000
END:DAYLIGHT
END:VTIMEZONE
BEGIN:VEVENT
UID:59cbb34c-33a5-49bb-bfc8-a09f1d19d321
DTSTAMP:20260419T122456Z
DESCRIPTION:For those needing emergency food\, we offer a selection of nutr
 itionally balanced food. Both shelf stable and fresh produce. Each bag des
 igned to be a 3-day supply. Please provide photo ID\, proof of income and 
 proof of residence in one of our service areas: Gazelle\, Big Springs\, La
 ke Shastina\, Edgewood\, Weed\, Mt. Shasta\, McCloud\, Dunsmuir and Castel
 la.
DTSTART;TZID=America/Los_Angeles:20231115T110000
DTEND;TZID=America/Los_Angeles:20231115T150000
LOCATION:Weed Elementary School Annex (780 S. Davis Ave.\, Weed CA)
SUMMARY:Emergency Food Distribution
END:VEVENT
END:VCALENDAR
